BEGIN:VCALENDAR
VERSION:2.0
PRODID:-//Ville de Marange-Silvange - ECPv6.10.3//NONSGML v1.0//EN
CALSCALE:GREGORIAN
METHOD:PUBLISH
X-WR-CALNAME:Ville de Marange-Silvange
X-ORIGINAL-URL:https://staging7.ux-key.com
X-WR-CALDESC:Évènements pour Ville de Marange-Silvange
REFRESH-INTERVAL;VALUE=DURATION:PT1H
X-Robots-Tag:noindex
X-PUBLISHED-TTL:PT1H
BEGIN:VTIMEZONE
TZID:Europe/Paris
BEGIN:DAYLIGHT
TZOFFSETFROM:+0100
TZOFFSETTO:+0200
TZNAME:CEST
DTSTART:20260329T010000
END:DAYLIGHT
BEGIN:STANDARD
TZOFFSETFROM:+0200
TZOFFSETTO:+0100
TZNAME:CET
DTSTART:20261025T010000
END:STANDARD
END:VTIMEZONE
BEGIN:VEVENT
DTSTART;TZID=Europe/Paris:20260507T200000
DTEND;TZID=Europe/Paris:20260507T213000
DTSTAMP:20260423T134355
CREATED:20260423T083621Z
LAST-MODIFIED:20260423T093514Z
UID:25948-1778184000-1778189400@staging7.ux-key.com
SUMMARY:Conférence - Les abeilles
DESCRIPTION:Curieux\, passionnés ou simples amoureux de la nature\, cette conférence est faite pour vous\, dès 8 ans ! \nVenez découvrir l’univers fascinant des abeilles : leur rôle essentiel dans la biodiversité\, leur organisation incroyable\, et les enjeux majeurs liés à leur préservation. À travers une intervention accessible\, dynamique et enrichissante\, petits et grands pourront mieux comprendre pourquoi ces pollinisatrices sont indispensables à notre écosystème. \nAu programme : \n\nLes secrets de la vie dans la ruche\nL’importance des abeilles pour notre alimentation\nLes menaces actuelles et les solutions pour agir à notre échelle\n\nUne occasion unique d’apprendre\, d’échanger et de s’engager pour la protection de la nature.
URL:https://staging7.ux-key.com/event/conference-les-abeilles/
LOCATION:en Mairie\, 12 rue de l'Abani\, Marange-Silvange\, 57535
CATEGORIES:agenda
ATTACH;FMTTYPE=image/png:https://staging7.ux-key.com/wp-content/uploads/2026/04/RS-Conference-abeilles.png
END:VEVENT
END:VCALENDAR